BEGIN:VCALENDAR
VERSION:2.0
PRODID:-//ChamberMaster//Event Calendar 2.0//EN
METHOD:PUBLISH
X-PUBLISHED-TTL:P3D
REFRESH-INTERVAL:P3D
CALSCALE:GREGORIAN
BEGIN:VEVENT
DTSTART:20260516T140000Z
DTEND:20260517T220000Z
X-MICROSOFT-CDO-ALLDAYEVENT:FALSE
SUMMARY:250 Anniversary\, Honoring Veterans\, Tribute to Greatest Generation
DESCRIPTION:The Franklin Grove Area Historical Society is having a 250th anniversary celebration. It will honor all veterans with a tribute to the greatest generation. May 15\, 16\, 17 2026. The location is 1715 Whitney Rd. Franklin Grove IL. at the Chaplin Creek Village. This will be a WWII reenactment on one of the largest land area battlefields in the mid-west. The 15th will be an education day for area Jr. high students. The 16th & 17th will be open to the public. There will be military equipment displays\, military camp displays\, vendors\, food trucks\, and two battles each day. Keep informed by finding us on Facebook Chaplin Creek Village or go to : www.franklingroveareahistoricalsociety.com
X-ALT-DESC;FMTTYPE=text/html:The Franklin Grove Area Historical Society is having a 250th anniversary celebration. It will honor all veterans with a tribute to the greatest generation. May 15\, 16\, 17 2026. The location is 1715 Whitney Rd. Franklin Grove IL. at the Chaplin Creek Village. This will be a WWII reenactment on one of the largest land area battlefields in the mid-west. The 15th will be an education day for area Jr. high students. The 16th &amp\; 17th will be open to the public. There will be military equipment displays\, military camp displays\, vendors\, food trucks\, and two battles each day. Keep informed by finding us on Facebook Chaplin Creek Village or go to : www.franklingroveareahistoricalsociety.com
LOCATION:1715 Whitney Road Franklin Grove IL.
UID:e.2210.9432
SEQUENCE:3
DTSTAMP:20260425T012738Z
URL:https://business.saukvalleyareachamber.com/events/details/250-anniversary-honoring-veterans-tribute-to-greatest-generation-9432
END:VEVENT

END:VCALENDAR
