BEGIN:VCALENDAR
VERSION:2.0
PRODID:-//ChamberMaster//Event Calendar 2.0//EN
METHOD:PUBLISH
X-PUBLISHED-TTL:P3D
REFRESH-INTERVAL:P3D
CALSCALE:GREGORIAN
BEGIN:VEVENT
DTSTART:20230726T140000Z
DTEND:20230726T170000Z
X-MICROSOFT-CDO-ALLDAYEVENT:FALSE
SUMMARY:From Start to Finish: How to Keep Your Employees Happy
DESCRIPTION:Communication is Key!\n\nGetting your employees started out right - onboarding properly\, stay interviews\, continued communication throughout their employment and then offboarding/exit interviews\, when they leave (start them happy\, keep them happy even when they leave). From the hiring process to onboarding to performance reviews\, mentoring/coaching and being a part of the team. This workshop will outline ways to assist your managers and supervisor with tools and ideas to help with communication and engagement. Our interactive discussion will wrap around listening\, understanding our differences\, communication and our expectations for our staff. Active management of our staff! Remembering that we play a huge part in their success! Topics covered will also include culture\, generations and personalities.\n\nContinuing Education Offered: 3.00 HRCI\, 3.00 SHRM\, 3.00 HR Compliance Certificate Credits\, and 3.00 Management/Supervision Compliance Certificate Credits. HR Certification Institute's  (www.HRCI.org) official seal confirms that the Illinois Chamber meets the criteria for pre-approved recertification credit(s) for any of HRCI's eight credentials\, including SPHR  and PHR .
X-ALT-DESC;FMTTYPE=text/html:<p style="box-sizing: border-box\; margin: 0px 0px 30px\; color: rgb(126\, 126\, 126)\; font-family: &quot\;Source Sans Pro&quot\;\, sans-serif\; font-size: 15px\; line-height: 1.25em !important\;"><span style="box-sizing: border-box\; font-weight: 700\;">Communication is Key!</span></p>\n\n<p style="box-sizing: border-box\; margin: 0px 0px 30px\; color: rgb(126\, 126\, 126)\; font-family: &quot\;Source Sans Pro&quot\;\, sans-serif\; font-size: 15px\; line-height: 1.25em !important\;">Getting your employees started out right - onboarding properly\, stay interviews\, continued communication throughout their employment and then offboarding/exit interviews\, when they leave (start them happy\, keep them happy even when they leave). From the hiring process to onboarding to performance reviews\, mentoring/coaching and being a part of the team. This workshop will outline ways to assist your managers and supervisor with tools and ideas to help with communication and engagement. Our interactive discussion will wrap around listening\, understanding our differences\, communication and our expectations for our staff. Active management of our staff! Remembering that we play a huge part in their success! Topics covered will also include culture\, generations and personalities.</p>\n\n<p style="box-sizing: border-box\; margin: 0px 0px 30px\; color: rgb(126\, 126\, 126)\; font-family: &quot\;Source Sans Pro&quot\;\, sans-serif\; font-size: 15px\; line-height: 1.25em !important\;">Continuing Education Offered: 3.00 HRCI\, 3.00 SHRM\, 3.00 HR Compliance Certificate Credits\, and 3.00 Management/Supervision Compliance Certificate Credits. HR Certification Institute&rsquo\;s&reg\; (www.HRCI.org) official seal confirms that the Illinois Chamber meets the criteria for pre-approved recertification credit(s) for any of HRCI&rsquo\;s eight credentials\, including SPHR&reg\; and PHR&reg\;.</p>\n
LOCATION:
UID:e.2210.7768
SEQUENCE:3
DTSTAMP:20260423T060851Z
URL:https://business.saukvalleyareachamber.com/events/details/from-start-to-finish-how-to-keep-your-employees-happy-7768
END:VEVENT

END:VCALENDAR
