BEGIN:VCALENDAR
VERSION:2.0
PRODID:-//ChamberMaster//Event Calendar 2.0//EN
METHOD:PUBLISH
X-PUBLISHED-TTL:P3D
REFRESH-INTERVAL:P3D
CALSCALE:GREGORIAN
BEGIN:VEVENT
DTSTART:20230719T210000Z
DTEND:20230719T220000Z
X-MICROSOFT-CDO-ALLDAYEVENT:FALSE
SUMMARY:Lee County Republicans Ribbon Cutting
DESCRIPTION:Exciting News! The Lee County Republican Central Committee is alive and well in Lee County!  We are joining the Sauk Valley Chamber and to celebrate this\, we are having a ribbon cutting ceremony.  We look forward to making a positive impact on the Sauk Valley area.  We would be honored if you would join us!  It's important that we get together and show this community just how many conservatives there are\, and that we are the majority. We have a lot of great plans for this community and ideas for the future to preserve this great county that we love.  We must actively work and show our presence to maintain our conservative way of life and our values.  Join us and together we can make this possible! We are looking forward to getting to know you better and to working with you!
X-ALT-DESC;FMTTYPE=text/html:Exciting News! The Lee County Republican Central Committee is alive and well in Lee County! &nbsp\;We are joining the Sauk Valley Chamber and to celebrate this\, we are having a ribbon cutting ceremony. &nbsp\;We look forward to making a positive impact on the Sauk Valley area. &nbsp\;We would be honored if you would join us! &nbsp\;It&rsquo\;s important that we get together and show this community just how many conservatives there are\, and that we are the majority. We have a lot of great plans for this community and ideas for the future to preserve this great county that we love. &nbsp\;We must actively work and show our presence to maintain our conservative way of life and our values. &nbsp\;Join us and together we can make this possible! We are looking forward to getting to know you better and to working with you!
LOCATION:Presidents Park in Dixon\, IL at the Lincoln Statue
UID:e.2210.7795
SEQUENCE:3
DTSTAMP:20260423T055927Z
URL:https://business.saukvalleyareachamber.com/events/details/lee-county-republicans-ribbon-cutting-7795
END:VEVENT

END:VCALENDAR
