BEGIN:VCALENDAR
VERSION:2.0
PRODID:-//ChamberMaster//Event Calendar 2.0//EN
METHOD:PUBLISH
X-PUBLISHED-TTL:P3D
REFRESH-INTERVAL:P3D
CALSCALE:GREGORIAN
BEGIN:VEVENT
DTSTART:20240424T164500Z
DTEND:20240424T180000Z
X-MICROSOFT-CDO-ALLDAYEVENT:FALSE
SUMMARY:Lunch & Learn: Legislative Update
DESCRIPTION:Lunch & Learn: Legislative Updates\n\nfrom the Illinois Chamber of Commerce and the US Chamber of Commerce\n\n\n\nPresented by Andrew Cunningham\, Director of Legislative Relations\, Illinois Chamber of Commerce and Ryan Gleason Senior Manager of the Great Lakes Region in Congressional and Public Affairs\, U.S. Chamber of Commerce.\n\n\n\nTopics to be covered include:\n\nFederal: Corporate Transparency Act\; DOL and Independent Contractors\;  DOL overtime rule status\, workforce/childcare.\n\n \n\nState: Paid Leave for All-updates\; Governors new childcare initiative and agency\,  Warehouse Worker Protection Act\, Small Business Savings Account\,  Minimum Wage for Tipped Workers Act
X-ALT-DESC;FMTTYPE=text/html:Lunch &amp\; Learn: Legislative Updates<br />\nfrom the Illinois Chamber of Commerce and the US Chamber of Commerce<br />\n<br />\nPresented by&nbsp\;Andrew Cunningham\,&nbsp\;<span class="OYPEnA text-decoration-none text-strikethrough-none">Director of Legislative Relations\, Illinois Chamber of Commerce and</span>&nbsp\;Ryan Gleason<span class="OYPEnA text-decoration-none text-strikethrough-none" style="font-weight: 700\;">&nbsp\;</span><span class="OYPEnA text-decoration-none text-strikethrough-none">Senior Manager of the Great Lakes Region in Congressional and Public Affairs\, U.S. Chamber of Commerce.<br />\n<br />\n<span style="font-size:12px\;">Topics to be covered include:</span></span><br />\n<span style="font-size:12px\;"><span style="font-family:aptos\,sans-serif\;"><strong>Federal: </strong>Corporate Transparency Act\; DOL and Independent Contractors\;&nbsp\; DOL overtime rule status\, workforce/childcare.</span><br />\n&nbsp\;<br />\n<span style="font-family:aptos\,sans-serif\;"><strong>State: </strong>Paid Leave for All-updates\; Governors new childcare initiative and agency\,&nbsp\; Warehouse Worker Protection Act\, Small Business Savings Account\,&nbsp\; Minimum Wage for Tipped Workers Act</span></span><br />\n&nbsp\;\n<p class="cvGsUA direction-ltr align-start para-style-body" style="--font-size: 23.9998px\; --line-height: 1.4\; line-height: 33px\;">&nbsp\;</p>\n
LOCATION:Champs Banquet 11 E 3rd St\, Sterling
UID:e.2210.7991
SEQUENCE:3
DTSTAMP:20260423T203321Z
URL:https://business.saukvalleyareachamber.com/events/details/lunch-learn-legislative-update-7991
END:VEVENT

END:VCALENDAR
