BEGIN:VCALENDAR
VERSION:2.0
PRODID:-//ChamberMaster//Event Calendar 2.0//EN
METHOD:PUBLISH
X-PUBLISHED-TTL:P3D
REFRESH-INTERVAL:P3D
CALSCALE:GREGORIAN
BEGIN:VEVENT
DTSTART:20230713T220000Z
DTEND:20230714T010000Z
X-MICROSOFT-CDO-ALLDAYEVENT:FALSE
SUMMARY:Pop-Up Markets
DESCRIPTION:Grab your friends and stroll downtown for a night of music\, shopping\, dining and more!\n\nJoin us for a variety of vendors along with live music in the newly renovated Dale Park for the evening. Grab a ?blue cup? beverage from any of the surrounding establishments so you can sip while you shop and enjoy the night. Dine downtown or grab some carry-out to take home.
X-ALT-DESC;FMTTYPE=text/html:<h1 style="box-sizing: inherit\; text-size-adjust: 100%\; border: 0px\; font-variant-numeric: inherit\; font-variant-east-asian: inherit\; font-weight: 400\; font-stretch: inherit\; line-height: 1.2\; font-family: Aleo\; font-size: 30px\; margin: 0px 0px 30px\; padding: 0px\; vertical-align: baseline\; clear: both\; color: rgb(52\, 65\, 71)\; overflow-wrap: break-word\; text-align: center\;"><em style="font-family: inherit\; font-size: 18px\; font-weight: inherit\; box-sizing: inherit\; text-size-adjust: 100%\; border: 0px\; font-variant: inherit\; font-stretch: inherit\; line-height: inherit\; margin: 0px\; padding: 0px\; vertical-align: baseline\;">Grab your friends and stroll downtown for a night of music\, shopping\, dining and more!</em></h1>\n\n<p class="o9v6fnle cxmmr5t8 oygrvhab hcukyx3x c1et5uql" style="box-sizing: inherit\; text-size-adjust: 100%\; border: 0px\; font-variant-numeric: inherit\; font-variant-east-asian: inherit\; font-stretch: inherit\; line-height: inherit\; font-family: Oxygen\; font-size: 15px\; margin: 0px 0px 30px\; padding: 0px\; vertical-align: baseline\; color: rgb(104\, 107\, 112)\;">Join us for a variety of vendors along with live music in the newly renovated Dale Park for the evening. Grab a ?blue cup? beverage from any of the surrounding establishments so you can sip while you shop and enjoy the night. Dine downtown or grab some carry-out to take home.</p>\n
LOCATION:Dale Park Downtown Sterling
UID:e.2210.7263
SEQUENCE:3
DTSTAMP:20260423T055917Z
URL:https://business.saukvalleyareachamber.com/events/details/pop-up-markets-07-13-2023-7263
END:VEVENT

END:VCALENDAR
