BEGIN:VCALENDAR
VERSION:2.0
PRODID:-//ChamberMaster//Event Calendar 2.0//EN
METHOD:PUBLISH
X-PUBLISHED-TTL:P3D
REFRESH-INTERVAL:P3D
CALSCALE:GREGORIAN
BEGIN:VEVENT
DTSTART:20340718T123000Z
DTEND:20340718T133000Z
X-MICROSOFT-CDO-ALLDAYEVENT:FALSE
SUMMARY:SVACC Board of Directors Meeting
DESCRIPTION:SVACC Monthly Board of Directors Meeting
X-ALT-DESC;FMTTYPE=text/html:SVACC Monthly Board of Directors Meeting&nbsp\;
LOCATION:SVACC 211 Locust Street Sterling
UID:e.2210.9043
SEQUENCE:3
DTSTAMP:20260422T095630Z
URL:https://business.saukvalleyareachamber.com/events/details/svacc-board-of-directors-meeting-07-18-2034-9043
END:VEVENT

END:VCALENDAR
