BEGIN:VCALENDAR
VERSION:2.0
PRODID:-//ChamberMaster//Event Calendar 2.0//EN
METHOD:PUBLISH
X-PUBLISHED-TTL:P3D
REFRESH-INTERVAL:P3D
CALSCALE:GREGORIAN
BEGIN:VEVENT
DTSTART:20230506T150000Z
DTEND:20230506T190000Z
X-MICROSOFT-CDO-ALLDAYEVENT:FALSE
SUMMARY:Walk For Hunger
DESCRIPTION:Join University of Illinois Extension Saturday\, May 6\, 10:00 am-2:00 pm at Centennial Park\, Rock Falls\, IL\, as we raise awareness about hunger and support the health of our neighbors. To participate in the walk\, bring one healthy shelf-stable food item to be donated to Sauk Valley Food Bank to distribute to local food pantries\; no registration is required. Check-in at the Larson Shelter. For more information\, contact Extension Program Coordinator Marcia Cruse at 815-632-3611
X-ALT-DESC;FMTTYPE=text/html:Join University of Illinois Extension Saturday\, May 6\, 10:00 am-2:00 pm at Centennial Park\, Rock Falls\, IL\, as we raise awareness about hunger and support the health of our neighbors. To participate in the walk\, bring one healthy shelf-stable food item to be donated to Sauk Valley Food Bank to distribute to local food pantries\; no registration is required. Check-in at the Larson Shelter. For more information\, contact Extension Program Coordinator Marcia Cruse at 815-632-3611
LOCATION:Centennial Park\, Rock Falls
UID:e.2210.7755
SEQUENCE:3
DTSTAMP:20260420T092332Z
URL:https://business.saukvalleyareachamber.com/events/details/walk-for-hunger-7755
END:VEVENT

END:VCALENDAR
